BEGIN:VCALENDAR
METHOD:REQUEST
PRODID:-//events.orgNONSGML ical.net 4.0//EN
VERSION:2.0
BEGIN:VEVENT
DTEND;VALUE=DATE:20260628
DTSTAMP:20260422T092141Z
DTSTART;VALUE=DATE:20260628
LOCATION:The Showbox\, Seattle
ORGANIZER;CN=:mailto:events@events.org
SEQUENCE:0
SUMMARY:Redferrin w/ Payton Sullivan
UID:e9d96584-ec52-40e2-a4fd-8d96c671b02d
URL:https://events.org/e/Redferrin-w-Payton-Sullivan/DM6M3EEU
BEGIN:VALARM
ACTION:DISPLAY
SUMMARY:Reminder
TRIGGER:-P1D
END:VALARM
END:VEVENT
END:VCALENDAR
