BEGIN:VCALENDAR
METHOD:REQUEST
PRODID:-//events.orgNONSGML ical.net 4.0//EN
VERSION:2.0
BEGIN:VEVENT
DTEND;VALUE=DATE:20260725
DTSTAMP:20260422T091051Z
DTSTART;VALUE=DATE:20260725
LOCATION:Punch Line Houston\, Houston
ORGANIZER;CN=:mailto:events@events.org
SEQUENCE:0
SUMMARY:Dulcé Sloan
UID:1820e486-f584-47c0-845c-b587af6a72a1
URL:https://events.org/e/Dulce-Sloan/YG4E3B5L
BEGIN:VALARM
ACTION:DISPLAY
SUMMARY:Reminder
TRIGGER:-P1D
END:VALARM
END:VEVENT
END:VCALENDAR
