BEGIN:VCALENDAR
METHOD:REQUEST
PRODID:-//events.orgNONSGML ical.net 4.0//EN
VERSION:2.0
BEGIN:VEVENT
DTEND;VALUE=DATE:20260426
DTSTAMP:20260424T082322Z
DTSTART;VALUE=DATE:20260426
LOCATION:Mercury Lounge\, New York
ORGANIZER;CN=:mailto:events@events.org
SEQUENCE:0
SUMMARY:The Millers\, UmaSofia\, Sean Green (DJ)
UID:809ea717-4760-4ce5-930a-42e45876926f
URL:https://events.org/e/The-Millers-UmaSofia-Sean-Green-DJ/QTTIUY6U
BEGIN:VALARM
ACTION:DISPLAY
SUMMARY:Reminder
TRIGGER:-P1D
END:VALARM
END:VEVENT
END:VCALENDAR
