BEGIN:VCALENDAR
METHOD:REQUEST
PRODID:-//events.orgNONSGML ical.net 4.0//EN
VERSION:2.0
BEGIN:VEVENT
DTEND;VALUE=DATE:20260604
DTSTAMP:20260425T102622Z
DTSTART;VALUE=DATE:20260604
LOCATION:MilkBoy Philadelphia\, Philadelphia
ORGANIZER;CN=:mailto:events@events.org
SEQUENCE:0
SUMMARY:Gracie and Rachel (21+ Event)
UID:09d1fe58-3ad8-494a-9fb1-88d21e314d36
URL:https://events.org/e/Gracie-and-Rachel-21-Event/TUFJ8FCE
BEGIN:VALARM
ACTION:DISPLAY
SUMMARY:Reminder
TRIGGER:-P1D
END:VALARM
END:VEVENT
END:VCALENDAR
