BEGIN:VCALENDAR
METHOD:REQUEST
PRODID:-//events.orgNONSGML ical.net 4.0//EN
VERSION:2.0
BEGIN:VEVENT
DTEND;VALUE=DATE:20260627
DTSTAMP:20260423T133025Z
DTSTART;VALUE=DATE:20260627
LOCATION:Varsity Theater\, Minneapolis
ORGANIZER;CN=:mailto:events@events.org
SEQUENCE:0
SUMMARY:R&B ONLY
UID:ebab919c-7799-41cc-8adc-5e902874a5e0
URL:https://events.org/e/RB-ONLY/WIACJ6OD
BEGIN:VALARM
ACTION:DISPLAY
SUMMARY:Reminder
TRIGGER:-P1D
END:VALARM
END:VEVENT
END:VCALENDAR
