BEGIN:VCALENDAR
METHOD:REQUEST
PRODID:-//events.orgNONSGML ical.net 4.0//EN
VERSION:2.0
BEGIN:VEVENT
DTEND;VALUE=DATE:20260617
DTSTAMP:20260422T090953Z
DTSTART;VALUE=DATE:20260617
LOCATION:Humphreys Backstage Live\, San Diego
ORGANIZER;CN=:mailto:events@events.org
SEQUENCE:0
SUMMARY:Randi's Jingle Jam in June
UID:56b391ef-cee3-480c-8ad7-7e26aab9a829
URL:https://events.org/e/Randis-Jingle-Jam-in-June/BSE4QLG8
BEGIN:VALARM
ACTION:DISPLAY
SUMMARY:Reminder
TRIGGER:-P1D
END:VALARM
END:VEVENT
END:VCALENDAR
