BEGIN:VCALENDAR
METHOD:REQUEST
PRODID:-//events.orgNONSGML ical.net 4.0//EN
VERSION:2.0
BEGIN:VEVENT
DTEND;VALUE=DATE:20260529
DTSTAMP:20260421T094539Z
DTSTART;VALUE=DATE:20260529
LOCATION:Brighton Music Hall presented by Citizens\, Boston
ORGANIZER;CN=:mailto:events@events.org
SEQUENCE:0
SUMMARY:SUNDUB (18+)
UID:eacb149f-43e4-408e-b857-6f230335b95f
URL:https://events.org/e/SUNDUB-18/UPJPLRKK
BEGIN:VALARM
ACTION:DISPLAY
SUMMARY:Reminder
TRIGGER:-P1D
END:VALARM
END:VEVENT
END:VCALENDAR
