BEGIN:VCALENDAR
METHOD:REQUEST
PRODID:-//events.orgNONSGML ical.net 4.0//EN
VERSION:2.0
BEGIN:VEVENT
DTEND;VALUE=DATE:20261205
DTSTAMP:20260421T144915Z
DTSTART;VALUE=DATE:20261205
LOCATION:Orpheum Theatre\, Minneapolis
ORGANIZER;CN=:mailto:events@events.org
SEQUENCE:0
SUMMARY:NUTCRACKER! Magical Christmas Ballet
UID:84d3f98f-24cc-4385-acd5-7c22740092b8
URL:https://events.org/e/NUTCRACKER-Magical-Christmas-Ballet/LN3MXOUK
BEGIN:VALARM
ACTION:DISPLAY
SUMMARY:Reminder
TRIGGER:-P1D
END:VALARM
END:VEVENT
END:VCALENDAR
