BEGIN:VCALENDAR
METHOD:REQUEST
PRODID:-//events.orgNONSGML ical.net 4.0//EN
VERSION:2.0
BEGIN:VEVENT
DTEND;VALUE=DATE:20260628
DTSTAMP:20260421T103726Z
DTSTART;VALUE=DATE:20260628
LOCATION:The Observatory North Park\, San Diego
ORGANIZER;CN=:mailto:events@events.org
SEQUENCE:0
SUMMARY:Rx Bandits - And The Battle Begun 20th Anniversary Tour
UID:e7335627-1c56-4dcc-bc99-e31529495945
URL:https://events.org/e/Rx-Bandits---And-The-Battle-Begun-20th-Annive/O6V
 JL5IV
BEGIN:VALARM
ACTION:DISPLAY
SUMMARY:Reminder
TRIGGER:-P1D
END:VALARM
END:VEVENT
END:VCALENDAR
