BEGIN:VCALENDAR
METHOD:REQUEST
PRODID:-//events.orgNONSGML ical.net 4.0//EN
VERSION:2.0
BEGIN:VEVENT
DTEND;VALUE=DATE:20260711
DTSTAMP:20260424T092425Z
DTSTART;VALUE=DATE:20260711
LOCATION:The Masonic\, San Francisco
ORGANIZER;CN=:mailto:events@events.org
SEQUENCE:0
SUMMARY:CA7RIEL & Paco Amoroso: FREE SPIRITS WORLD TOUR
UID:dd899aba-1ca5-4e4a-b9d0-2095d57c8090
URL:https://events.org/e/CA7RIEL-Paco-Amoroso-FREE-SPIRITS-WORLD-TOUR/ECFM
 YRR6
BEGIN:VALARM
ACTION:DISPLAY
SUMMARY:Reminder
TRIGGER:-P1D
END:VALARM
END:VEVENT
END:VCALENDAR
