BEGIN:VCALENDAR
METHOD:REQUEST
PRODID:-//events.orgNONSGML ical.net 4.0//EN
VERSION:2.0
BEGIN:VEVENT
DTEND;VALUE=DATE:20260908
DTSTAMP:20260422T092000Z
DTSTART;VALUE=DATE:20260908
LOCATION:The Met Presented by Highmark\, Philadelphia
ORGANIZER;CN=:mailto:events@events.org
SEQUENCE:0
SUMMARY:Social Distortion
UID:84d2760a-d64e-460c-b73a-7e4d70ca1927
URL:https://events.org/e/Social-Distortion/MCT6568U
BEGIN:VALARM
ACTION:DISPLAY
SUMMARY:Reminder
TRIGGER:-P1D
END:VALARM
END:VEVENT
END:VCALENDAR
