BEGIN:VCALENDAR
METHOD:REQUEST
PRODID:-//events.orgNONSGML ical.net 4.0//EN
VERSION:2.0
BEGIN:VEVENT
DTEND;VALUE=DATE:20260422
DTSTAMP:20260421T082644Z
DTSTART;VALUE=DATE:20260422
LOCATION:John Golden Theatre\, New York
ORGANIZER;CN=:mailto:events@events.org
SEQUENCE:0
SUMMARY:Operation Mincemeat: A New Musical
UID:40bdf06b-cfb0-4070-9653-86b54909a028
URL:https://events.org/e/Operation-Mincemeat-A-New-Musical/QR7HS8TX
BEGIN:VALARM
ACTION:DISPLAY
SUMMARY:Reminder
TRIGGER:-P1D
END:VALARM
END:VEVENT
END:VCALENDAR
