BEGIN:VCALENDAR
METHOD:REQUEST
PRODID:-//events.orgNONSGML ical.net 4.0//EN
VERSION:2.0
BEGIN:VEVENT
DTEND;VALUE=DATE:20260618
DTSTAMP:20260421T103625Z
DTSTART;VALUE=DATE:20260618
LOCATION:Majestic Theatre-MI\, Detroit
ORGANIZER;CN=:mailto:events@events.org
SEQUENCE:0
SUMMARY:Joshua Slone w/ Jake Minch
UID:8cdfce57-894f-4760-b44c-d2db93b81cee
URL:https://events.org/e/Joshua-Slone-w-Jake-Minch/65YGHD4W
BEGIN:VALARM
ACTION:DISPLAY
SUMMARY:Reminder
TRIGGER:-P1D
END:VALARM
END:VEVENT
END:VCALENDAR
