BEGIN:VCALENDAR
METHOD:REQUEST
PRODID:-//events.orgNONSGML ical.net 4.0//EN
VERSION:2.0
BEGIN:VEVENT
DTEND;VALUE=DATE:20260620
DTSTAMP:20260421T094246Z
DTSTART;VALUE=DATE:20260620
LOCATION:Thunderbird Lounge\, Phoenix
ORGANIZER;CN=:mailto:events@events.org
SEQUENCE:0
SUMMARY:Disintegration: a Goth / Dark Wave Night
UID:0f56d15f-0d7c-452e-8af6-91bc17b58278
URL:https://events.org/e/Disintegration-a-Goth-Dark-Wave-Night/I572LMPQ
BEGIN:VALARM
ACTION:DISPLAY
SUMMARY:Reminder
TRIGGER:-P1D
END:VALARM
END:VEVENT
END:VCALENDAR
