BEGIN:VCALENDAR
METHOD:REQUEST
PRODID:-//events.orgNONSGML ical.net 4.0//EN
VERSION:2.0
BEGIN:VEVENT
DTEND;VALUE=DATE:20260425
DTSTAMP:20260421T095529Z
DTSTART;VALUE=DATE:20260425
LOCATION:Black Ensemble Theater\, Chicago
ORGANIZER;CN=:mailto:events@events.org
SEQUENCE:0
SUMMARY:The Jackie Wilson Story
UID:b5657b0f-4ae0-4a9c-b5c0-de61d585348f
URL:https://events.org/e/The-Jackie-Wilson-Story/VPMTSD7E
BEGIN:VALARM
ACTION:DISPLAY
SUMMARY:Reminder
TRIGGER:-P1D
END:VALARM
END:VEVENT
END:VCALENDAR
