BEGIN:VCALENDAR
METHOD:REQUEST
PRODID:-//events.orgNONSGML ical.net 4.0//EN
VERSION:2.0
BEGIN:VEVENT
DTEND;VALUE=DATE:20260507
DTSTAMP:20260421T133206Z
DTSTART;VALUE=DATE:20260507
LOCATION:The Echo\, Los Angeles
ORGANIZER;CN=:mailto:events@events.org
SEQUENCE:0
SUMMARY:Dolphin Hyperspace (ft. Louis Cole & Pendleton Ward)\, Genevieve A
 rtadi
UID:7ef37015-567d-42f3-a6f1-630a87bcdd05
URL:https://events.org/e/Dolphin-Hyperspace-ft-Louis-Cole-Pendleton-Wa/92T
 48GWB
BEGIN:VALARM
ACTION:DISPLAY
SUMMARY:Reminder
TRIGGER:-P1D
END:VALARM
END:VEVENT
END:VCALENDAR
