BEGIN:VCALENDAR
METHOD:REQUEST
PRODID:-//events.orgNONSGML ical.net 4.0//EN
VERSION:2.0
BEGIN:VEVENT
DTEND;VALUE=DATE:20260403
DTSTAMP:20260419T132118Z
DTSTART;VALUE=DATE:20260403
LOCATION:Brooklyn Bowl Philadelphia\, Philadelphia
ORGANIZER;CN=:mailto:events@events.org
SEQUENCE:0
SUMMARY:2000s Rave (18+)
UID:9871f81b-2271-4a4e-99ce-bea2a58ef5be
URL:https://events.org/e/2000s-Rave-18/HDK4BCGH
BEGIN:VALARM
ACTION:DISPLAY
SUMMARY:Reminder
TRIGGER:-P1D
END:VALARM
END:VEVENT
END:VCALENDAR
