BEGIN:VCALENDAR
METHOD:REQUEST
PRODID:-//events.orgNONSGML ical.net 4.0//EN
VERSION:2.0
BEGIN:VEVENT
DTEND;VALUE=DATE:20260624
DTSTAMP:20260421T104310Z
DTSTART;VALUE=DATE:20260624
LOCATION:PETCO Park\, San Diego
ORGANIZER;CN=:mailto:events@events.org
SEQUENCE:0
SUMMARY:San Diego Padres vs. Atlanta Braves
UID:08e33b26-5050-48c3-9545-efe2c54efe8e
URL:https://events.org/e/San-Diego-Padres-vs-Atlanta-Braves/YBMC4CIP
BEGIN:VALARM
ACTION:DISPLAY
SUMMARY:Reminder
TRIGGER:-P1D
END:VALARM
END:VEVENT
END:VCALENDAR
