BEGIN:VCALENDAR
METHOD:REQUEST
PRODID:-//events.orgNONSGML ical.net 4.0//EN
VERSION:2.0
BEGIN:VEVENT
DTEND;VALUE=DATE:20260425
DTSTAMP:20260422T084420Z
DTSTART;VALUE=DATE:20260425
LOCATION:Lincoln Center - Vivian Beaumont Theater\, New York
ORGANIZER;CN=:mailto:events@events.org
SEQUENCE:0
SUMMARY:Ragtime
UID:cc0eb7cc-a1cd-436f-9f98-aba98dcc24a3
URL:https://events.org/e/Ragtime/KDJN5C3F
BEGIN:VALARM
ACTION:DISPLAY
SUMMARY:Reminder
TRIGGER:-P1D
END:VALARM
END:VEVENT
END:VCALENDAR
