BEGIN:VCALENDAR
METHOD:REQUEST
PRODID:-//events.orgNONSGML ical.net 4.0//EN
VERSION:2.0
BEGIN:VEVENT
DTEND;VALUE=DATE:20260613
DTSTAMP:20260424T092107Z
DTSTART;VALUE=DATE:20260613
LOCATION:House of Blues San Diego\, San Diego
ORGANIZER;CN=:mailto:events@events.org
SEQUENCE:0
SUMMARY:Corbyn Besson and Soulidified: The Pop'n Out Tour
UID:58621a62-93fe-447d-ab09-6ebe308ea84e
URL:https://events.org/e/Corbyn-Besson-and-Soulidified-The-Popn-Out-Tour/2
 R5G635I
BEGIN:VALARM
ACTION:DISPLAY
SUMMARY:Reminder
TRIGGER:-P1D
END:VALARM
END:VEVENT
END:VCALENDAR
