BEGIN:VCALENDAR
METHOD:REQUEST
PRODID:-//events.orgNONSGML ical.net 4.0//EN
VERSION:2.0
BEGIN:VEVENT
DTEND;VALUE=DATE:20260627
DTSTAMP:20260421T104219Z
DTSTART;VALUE=DATE:20260627
LOCATION:Waterfront Park\, San Diego
ORGANIZER;CN=:mailto:events@events.org
SEQUENCE:0
SUMMARY:Into The Horizon
UID:6681c9c9-dfdc-47e4-ab23-00cf41fc6abd
URL:https://events.org/e/Into-The-Horizon/CQQSVXLJ
BEGIN:VALARM
ACTION:DISPLAY
SUMMARY:Reminder
TRIGGER:-P1D
END:VALARM
END:VEVENT
END:VCALENDAR
