BEGIN:VCALENDAR
METHOD:REQUEST
PRODID:-//events.orgNONSGML ical.net 4.0//EN
VERSION:2.0
BEGIN:VEVENT
DTEND;VALUE=DATE:20240625
DTSTAMP:20260424T134228Z
DTSTART;VALUE=DATE:20240624
LOCATION:Netherlands
ORGANIZER;CN=:mailto:events@events.org
SEQUENCE:0
SUMMARY:9th European Congress on  Advanced Nanotechnology and Nanomaterials
UID:391363b2-f6d3-4e15-a5f6-5da945551395
URL:https://events.org/e/9th-European-Congress-on-Advanced-Nanotechnol/JRB
 WM5T2YN
BEGIN:VALARM
ACTION:DISPLAY
SUMMARY:Reminder
TRIGGER:-P1D
END:VALARM
END:VEVENT
END:VCALENDAR
