BEGIN:VCALENDAR
METHOD:REQUEST
PRODID:-//events.orgNONSGML ical.net 4.0//EN
VERSION:2.0
BEGIN:VEVENT
DTEND;VALUE=DATE:20260606
DTSTAMP:20260421T114958Z
DTSTART;VALUE=DATE:20260606
LOCATION:Coors Field\, Denver
ORGANIZER;CN=:mailto:events@events.org
SEQUENCE:0
SUMMARY:Colorado Rockies vs. Milwaukee Brewers
UID:8acb1d34-f515-4ea3-8a3e-80e5a1bfdddc
URL:https://events.org/e/Colorado-Rockies-vs-Milwaukee-Brewers/V8BVYGT4
BEGIN:VALARM
ACTION:DISPLAY
SUMMARY:Reminder
TRIGGER:-P1D
END:VALARM
END:VEVENT
END:VCALENDAR
