BEGIN:VCALENDAR
METHOD:REQUEST
PRODID:-//events.orgNONSGML ical.net 4.0//EN
VERSION:2.0
BEGIN:VEVENT
DTEND;VALUE=DATE:20260520
DTSTAMP:20260419T144105Z
DTSTART;VALUE=DATE:20260520
LOCATION:Leader Bank Pavilion\, Boston
ORGANIZER;CN=:mailto:events@events.org
SEQUENCE:0
SUMMARY:SatchVai Band Ft Joe Satriani & Steve Vai with Animals As Leaders
UID:33903819-5512-4349-8f4f-21c6ffcd20fb
URL:https://events.org/e/SatchVai-Band-Ft-Joe-Satriani-Steve-Vai-with/DO2Q
 RFQG
BEGIN:VALARM
ACTION:DISPLAY
SUMMARY:Reminder
TRIGGER:-P1D
END:VALARM
END:VEVENT
END:VCALENDAR
