BEGIN:VCALENDAR
METHOD:REQUEST
PRODID:-//events.orgNONSGML ical.net 4.0//EN
VERSION:2.0
BEGIN:VEVENT
DTEND;VALUE=DATE:20260429
DTSTAMP:20260424T080551Z
DTSTART;VALUE=DATE:20260429
LOCATION:Three Links Deep Ellum\, Dallas
ORGANIZER;CN=:mailto:events@events.org
SEQUENCE:0
SUMMARY:No One Productions: Collide Over Me\, Faded Night\, Sonic Wunder
UID:821a8c7f-f35a-4ed9-baa9-bc47b47ebb23
URL:https://events.org/e/No-One-Productions-Collide-Over-Me-Faded-Nigh/RJO
 QBOVD
BEGIN:VALARM
ACTION:DISPLAY
SUMMARY:Reminder
TRIGGER:-P1D
END:VALARM
END:VEVENT
END:VCALENDAR
