BEGIN:VCALENDAR
METHOD:REQUEST
PRODID:-//events.orgNONSGML ical.net 4.0//EN
VERSION:2.0
BEGIN:VEVENT
DTEND;VALUE=DATE:20260516
DTSTAMP:20260423T133211Z
DTSTART;VALUE=DATE:20260516
LOCATION:Numbers\, Houston
ORGANIZER;CN=:mailto:events@events.org
SEQUENCE:0
SUMMARY:Rick Pier O'Neil RPO with DJ Keoki
UID:24f08b16-d533-47dc-9c69-a4207cefa481
URL:https://events.org/e/Rick-Pier-ONeil-RPO-with-DJ-Keoki/FQ2F25DL
BEGIN:VALARM
ACTION:DISPLAY
SUMMARY:Reminder
TRIGGER:-P1D
END:VALARM
END:VEVENT
END:VCALENDAR
