BEGIN:VCALENDAR
METHOD:REQUEST
PRODID:-//events.orgNONSGML ical.net 4.0//EN
VERSION:2.0
BEGIN:VEVENT
DTEND;VALUE=DATE:20260829
DTSTAMP:20260422T084100Z
DTSTART;VALUE=DATE:20260829
LOCATION:The Fillmore Philadelphia\, Philadelphia
ORGANIZER;CN=:mailto:events@events.org
SEQUENCE:0
SUMMARY:CRASHING OUT LIVE
UID:168bbb3a-9535-4975-b425-ea9e5e09325f
URL:https://events.org/e/CRASHING-OUT-LIVE/KW3R2R8G
BEGIN:VALARM
ACTION:DISPLAY
SUMMARY:Reminder
TRIGGER:-P1D
END:VALARM
END:VEVENT
END:VCALENDAR
