BEGIN:VCALENDAR
METHOD:REQUEST
PRODID:-//events.orgNONSGML ical.net 4.0//EN
VERSION:2.0
BEGIN:VEVENT
DTEND;VALUE=DATE:20260524
DTSTAMP:20260422T084344Z
DTSTART;VALUE=DATE:20260524
LOCATION:The Mine Chicago\, Chicago
ORGANIZER;CN=:mailto:events@events.org
SEQUENCE:0
SUMMARY:Hades66 - EL SEI66EIS USA TOUR
UID:4cce2f15-38c7-43c8-9102-48bb8c741590
URL:https://events.org/e/Hades66---EL-SEI66EIS-USA-TOUR/VQ6LHUDY
BEGIN:VALARM
ACTION:DISPLAY
SUMMARY:Reminder
TRIGGER:-P1D
END:VALARM
END:VEVENT
END:VCALENDAR
