BEGIN:VCALENDAR
METHOD:REQUEST
PRODID:-//events.orgNONSGML ical.net 4.0//EN
VERSION:2.0
BEGIN:VEVENT
DTEND;VALUE=DATE:20260630
DTSTAMP:20260421T082001Z
DTSTART;VALUE=DATE:20260630
LOCATION:Crescent Ballroom\, Phoenix
ORGANIZER;CN=:mailto:events@events.org
SEQUENCE:0
SUMMARY:ARMOR FOR SLEEP - THERE IS NO SUMMER TOUR
UID:a6b45213-21b4-47d8-9bcf-aaae83daff6c
URL:https://events.org/e/ARMOR-FOR-SLEEP---THERE-IS-NO-SUMMER-TOUR/OC2M8A87
BEGIN:VALARM
ACTION:DISPLAY
SUMMARY:Reminder
TRIGGER:-P1D
END:VALARM
END:VEVENT
END:VCALENDAR
