BEGIN:VCALENDAR
METHOD:REQUEST
PRODID:-//events.orgNONSGML ical.net 4.0//EN
VERSION:2.0
BEGIN:VEVENT
DTEND;VALUE=DATE:20260527
DTSTAMP:20260424T080745Z
DTSTART;VALUE=DATE:20260527
LOCATION:CIBC Theatre\, Chicago
ORGANIZER;CN=:mailto:events@events.org
SEQUENCE:0
SUMMARY:Monty Python's Spamalot (Chicago)
UID:fc070866-d494-4823-9412-82a15e555bf3
URL:https://events.org/e/Monty-Pythons-Spamalot-Chicago/AMQUO7CH
BEGIN:VALARM
ACTION:DISPLAY
SUMMARY:Reminder
TRIGGER:-P1D
END:VALARM
END:VEVENT
END:VCALENDAR
