BEGIN:VCALENDAR
METHOD:REQUEST
PRODID:-//events.orgNONSGML ical.net 4.0//EN
VERSION:2.0
BEGIN:VEVENT
DTEND;VALUE=DATE:20260602
DTSTAMP:20260421T095121Z
DTSTART;VALUE=DATE:20260602
LOCATION:Buell Theatre\, Denver
ORGANIZER;CN=:mailto:events@events.org
SEQUENCE:0
SUMMARY:Harry Potter and the Cursed Child (Touring)
UID:e15fe697-9b13-4c9d-8c4f-12fdda216ef2
URL:https://events.org/e/Harry-Potter-and-the-Cursed-Child-Touring/PY6A2R39
BEGIN:VALARM
ACTION:DISPLAY
SUMMARY:Reminder
TRIGGER:-P1D
END:VALARM
END:VEVENT
END:VCALENDAR
