BEGIN:VCALENDAR
METHOD:REQUEST
PRODID:-//events.orgNONSGML ical.net 4.0//EN
VERSION:2.0
BEGIN:VEVENT
DTEND;VALUE=DATE:20260422
DTSTAMP:20260422T091017Z
DTSTART;VALUE=DATE:20260422
LOCATION:Bowery Palace\, New York
ORGANIZER;CN=:mailto:events@events.org
SEQUENCE:0
SUMMARY:Jesse Malin's Silver Manhattan
UID:f4f33960-4f8f-4bf6-b474-830f900d0d69
URL:https://events.org/e/Jesse-Malins-Silver-Manhattan/O86PQPT4
BEGIN:VALARM
ACTION:DISPLAY
SUMMARY:Reminder
TRIGGER:-P1D
END:VALARM
END:VEVENT
END:VCALENDAR
