BEGIN:VCALENDAR
METHOD:REQUEST
PRODID:-//events.orgNONSGML ical.net 4.0//EN
VERSION:2.0
BEGIN:VEVENT
DTEND;VALUE=DATE:20260418
DTSTAMP:20260422T090646Z
DTSTART;VALUE=DATE:20260418
LOCATION:Auditorium Theatre - IL\, Chicago
ORGANIZER;CN=:mailto:events@events.org
SEQUENCE:0
SUMMARY:Masters of the Mic
UID:49b06742-849e-4e98-b095-8d26d6646b28
URL:https://events.org/e/Masters-of-the-Mic/CFSL96YY
BEGIN:VALARM
ACTION:DISPLAY
SUMMARY:Reminder
TRIGGER:-P1D
END:VALARM
END:VEVENT
END:VCALENDAR
