BEGIN:VCALENDAR
METHOD:REQUEST
PRODID:-//events.orgNONSGML ical.net 4.0//EN
VERSION:2.0
BEGIN:VEVENT
DTEND;VALUE=DATE:20260730
DTSTAMP:20260422T091642Z
DTSTART;VALUE=DATE:20260730
LOCATION:Punch Line Houston\, Houston
ORGANIZER;CN=:mailto:events@events.org
SEQUENCE:0
SUMMARY:Jack Jr.
UID:0af0fc4d-fc86-4f4b-afa6-99a0f7e6eb97
URL:https://events.org/e/Jack-Jr/W4H93J4M
BEGIN:VALARM
ACTION:DISPLAY
SUMMARY:Reminder
TRIGGER:-P1D
END:VALARM
END:VEVENT
END:VCALENDAR
