BEGIN:VCALENDAR
METHOD:REQUEST
PRODID:-//events.orgNONSGML ical.net 4.0//EN
VERSION:2.0
BEGIN:VEVENT
DTEND;VALUE=DATE:20260508
DTSTAMP:20260425T103200Z
DTSTART;VALUE=DATE:20260508
LOCATION:Lyric Hyperion\, Los Angeles
ORGANIZER;CN=:mailto:events@events.org
SEQUENCE:0
SUMMARY:Netflix Is A Joke Presents: Grace Bahler's Braided
UID:a41ef249-0b90-4a10-a56d-be4182a407c9
URL:https://events.org/e/Netflix-Is-A-Joke-Presents-Grace-Bahlers-Braided/
 WF2MMCNF
BEGIN:VALARM
ACTION:DISPLAY
SUMMARY:Reminder
TRIGGER:-P1D
END:VALARM
END:VEVENT
END:VCALENDAR
