BEGIN:VCALENDAR
METHOD:REQUEST
PRODID:-//events.orgNONSGML ical.net 4.0//EN
VERSION:2.0
BEGIN:VEVENT
DTEND;VALUE=DATE:20260603
DTSTAMP:20260421T184444Z
DTSTART;VALUE=DATE:20260603
LOCATION:Synovus Bank Amphitheater at Chastain Park\, Atlanta
ORGANIZER;CN=:mailto:events@events.org
SEQUENCE:0
SUMMARY:Charlie Puth: Whatever's Clever! World Tour
UID:4adb3910-fd78-4555-b015-eb695b40eddf
URL:https://events.org/e/Charlie-Puth-Whatevers-Clever-World-Tour/WAD5F3KQ
BEGIN:VALARM
ACTION:DISPLAY
SUMMARY:Reminder
TRIGGER:-P1D
END:VALARM
END:VEVENT
END:VCALENDAR
