BEGIN:VCALENDAR
METHOD:REQUEST
PRODID:-//events.orgNONSGML ical.net 4.0//EN
VERSION:2.0
BEGIN:VEVENT
DTEND;VALUE=DATE:20260906
DTSTAMP:20260422T090944Z
DTSTART;VALUE=DATE:20260906
LOCATION:Xfinity Mobile Arena\, Philadelphia
ORGANIZER;CN=:mailto:events@events.org
SEQUENCE:0
SUMMARY:Suites - Lily Allen Performs West End Girl
UID:06ef5777-93b8-4b5f-b817-db11aada723c
URL:https://events.org/e/Suites---Lily-Allen-Performs-West-End-Girl/ET7V47
 BB
BEGIN:VALARM
ACTION:DISPLAY
SUMMARY:Reminder
TRIGGER:-P1D
END:VALARM
END:VEVENT
END:VCALENDAR
