BEGIN:VCALENDAR
METHOD:REQUEST
PRODID:-//events.orgNONSGML ical.net 4.0//EN
VERSION:2.0
BEGIN:VEVENT
DTEND;VALUE=DATE:20260717
DTSTAMP:20260421T165220Z
DTSTART;VALUE=DATE:20260717
LOCATION:Coors Field\, Denver
ORGANIZER;CN=:mailto:events@events.org
SEQUENCE:0
SUMMARY:Colorado Rockies vs. Cincinnati Reds
UID:ce3e3289-0c93-4cba-bc69-f60d945fa62b
URL:https://events.org/e/Colorado-Rockies-vs-Cincinnati-Reds/9MU5E78E
BEGIN:VALARM
ACTION:DISPLAY
SUMMARY:Reminder
TRIGGER:-P1D
END:VALARM
END:VEVENT
END:VCALENDAR
