BEGIN:VCALENDAR
METHOD:REQUEST
PRODID:-//events.orgNONSGML ical.net 4.0//EN
VERSION:2.0
BEGIN:VEVENT
DTEND;VALUE=DATE:20260916
DTSTAMP:20260422T091353Z
DTSTART;VALUE=DATE:20260916
LOCATION:The Foundry\, Philadelphia
ORGANIZER;CN=:mailto:events@events.org
SEQUENCE:0
SUMMARY:Culture Wars
UID:ab83bdf6-e035-4c5b-a38e-1269eed01fff
URL:https://events.org/e/Culture-Wars/KE8N6A8X
BEGIN:VALARM
ACTION:DISPLAY
SUMMARY:Reminder
TRIGGER:-P1D
END:VALARM
END:VEVENT
END:VCALENDAR
