BEGIN:VCALENDAR
METHOD:REQUEST
PRODID:-//events.orgNONSGML ical.net 4.0//EN
VERSION:2.0
BEGIN:VEVENT
DTEND;VALUE=DATE:20260422
DTSTAMP:20260422T090646Z
DTSTART;VALUE=DATE:20260422
LOCATION:Marquis Theatre\, New York
ORGANIZER;CN=:mailto:events@events.org
SEQUENCE:0
SUMMARY:Stranger Things: The First Shadow
UID:884e782e-7bf0-41cb-906d-005b61bd4c73
URL:https://events.org/e/Stranger-Things-The-First-Shadow/QTUTFV5I
BEGIN:VALARM
ACTION:DISPLAY
SUMMARY:Reminder
TRIGGER:-P1D
END:VALARM
END:VEVENT
END:VCALENDAR
