BEGIN:VCALENDAR
METHOD:REQUEST
PRODID:-//events.orgNONSGML ical.net 4.0//EN
VERSION:2.0
BEGIN:VEVENT
DTEND;VALUE=DATE:20260624
DTSTAMP:20260422T104209Z
DTSTART;VALUE=DATE:20260624
LOCATION:Hard Rock Stadium\, Miami
ORGANIZER;CN=:mailto:events@events.org
SEQUENCE:0
SUMMARY:World Cup: Match 49 ??? Group C - Scotland vs Brazil
UID:c4d38000-70f1-481b-819b-2e15fecc778e
URL:https://events.org/e/World-Cup-Match-49-Group-C---Scotland-vs-Brazil/6
 AFT7RWU
BEGIN:VALARM
ACTION:DISPLAY
SUMMARY:Reminder
TRIGGER:-P1D
END:VALARM
END:VEVENT
END:VCALENDAR
