BEGIN:VCALENDAR
METHOD:REQUEST
PRODID:-//events.orgNONSGML ical.net 4.0//EN
VERSION:2.0
BEGIN:VEVENT
DTEND;VALUE=DATE:20260327
DTSTAMP:20260421T082027Z
DTSTART;VALUE=DATE:20260327
LOCATION:The Echo\, Los Angeles
ORGANIZER;CN=:mailto:events@events.org
SEQUENCE:0
SUMMARY:Molina with Multiple People
UID:e1476a54-fe52-432e-8e61-3e5e039a9b06
URL:https://events.org/e/Molina-with-Multiple-People/5TGXHJM7
BEGIN:VALARM
ACTION:DISPLAY
SUMMARY:Reminder
TRIGGER:-P1D
END:VALARM
END:VEVENT
END:VCALENDAR
