BEGIN:VCALENDAR
METHOD:REQUEST
PRODID:-//events.orgNONSGML ical.net 4.0//EN
VERSION:2.0
BEGIN:VEVENT
DTEND;VALUE=DATE:20260527
DTSTAMP:20260421T094538Z
DTSTART;VALUE=DATE:20260527
LOCATION:Terminal West\, Atlanta
ORGANIZER;CN=:mailto:events@events.org
SEQUENCE:0
SUMMARY:Racing Mount Pleasant
UID:d8904625-e3af-4211-b479-6a0883d587e7
URL:https://events.org/e/Racing-Mount-Pleasant/MI9CGCD6
BEGIN:VALARM
ACTION:DISPLAY
SUMMARY:Reminder
TRIGGER:-P1D
END:VALARM
END:VEVENT
END:VCALENDAR
