BEGIN:VCALENDAR
METHOD:REQUEST
PRODID:-//events.orgNONSGML ical.net 4.0//EN
VERSION:2.0
BEGIN:VEVENT
DTEND;VALUE=DATE:20260310
DTSTAMP:20260421T082709Z
DTSTART;VALUE=DATE:20260310
LOCATION:BMO Stadium\, Los Angeles
ORGANIZER;CN=:mailto:events@events.org
SEQUENCE:0
SUMMARY:Concacaf Champions Cup: Lafc Vs L.D. Alajuelense
UID:35b208aa-938b-485b-ab47-2aedfb58098c
URL:https://events.org/e/Concacaf-Champions-Cup-Lafc-Vs-LD-Alajuelense/9WU
 RYV9T
BEGIN:VALARM
ACTION:DISPLAY
SUMMARY:Reminder
TRIGGER:-P1D
END:VALARM
END:VEVENT
END:VCALENDAR
