BEGIN:VCALENDAR
METHOD:REQUEST
PRODID:-//events.orgNONSGML ical.net 4.0//EN
VERSION:2.0
BEGIN:VEVENT
DTEND;VALUE=DATE:20260424
DTSTAMP:20260422T090231Z
DTSTART;VALUE=DATE:20260424
LOCATION:New World Stages - Stage 5\, New York
ORGANIZER;CN=:mailto:events@events.org
SEQUENCE:0
SUMMARY:Jamie Allan's Amaze
UID:3c066254-431c-4b56-a02b-d7986a5b86bd
URL:https://events.org/e/Jamie-Allans-Amaze/SYSSD3XD
BEGIN:VALARM
ACTION:DISPLAY
SUMMARY:Reminder
TRIGGER:-P1D
END:VALARM
END:VEVENT
END:VCALENDAR
