BEGIN:VCALENDAR
METHOD:REQUEST
PRODID:-//events.orgNONSGML ical.net 4.0//EN
VERSION:2.0
BEGIN:VEVENT
DTEND;VALUE=DATE:20260323
DTSTAMP:20260421T082244Z
DTSTART;VALUE=DATE:20260323
LOCATION:Blue Note Los Angeles\, Los Angeles
ORGANIZER;CN=:mailto:events@events.org
SEQUENCE:0
SUMMARY:Lady Blackbird Residency
UID:81862bdc-6ebe-4ef5-9f75-c8d85f781e39
URL:https://events.org/e/Lady-Blackbird-Residency/QGHHPVRF
BEGIN:VALARM
ACTION:DISPLAY
SUMMARY:Reminder
TRIGGER:-P1D
END:VALARM
END:VEVENT
END:VCALENDAR
