BEGIN:VCALENDAR
METHOD:REQUEST
PRODID:-//events.orgNONSGML ical.net 4.0//EN
VERSION:2.0
BEGIN:VEVENT
DTEND;VALUE=DATE:20260529
DTSTAMP:20260423T093917Z
DTSTART;VALUE=DATE:20260529
LOCATION:Orpheum Theatre\, Minneapolis
ORGANIZER;CN=:mailto:events@events.org
SEQUENCE:0
SUMMARY:Bobby Lee: The Finally Tour 2026
UID:8417744b-a34d-418a-9f01-b35840f5ddf0
URL:https://events.org/e/Bobby-Lee-The-Finally-Tour-2026/U979WLPC
BEGIN:VALARM
ACTION:DISPLAY
SUMMARY:Reminder
TRIGGER:-P1D
END:VALARM
END:VEVENT
END:VCALENDAR
