BEGIN:VCALENDAR
METHOD:REQUEST
PRODID:-//events.orgNONSGML ical.net 4.0//EN
VERSION:2.0
BEGIN:VEVENT
DTEND;VALUE=DATE:20260708
DTSTAMP:20260422T090715Z
DTSTART;VALUE=DATE:20260708
LOCATION:The Castro Theatre\, San Francisco
ORGANIZER;CN=:mailto:events@events.org
SEQUENCE:0
SUMMARY:Lucero
UID:6333ebbf-961c-4778-85d5-f96e758962a4
URL:https://events.org/e/Lucero/947SSA7C
BEGIN:VALARM
ACTION:DISPLAY
SUMMARY:Reminder
TRIGGER:-P1D
END:VALARM
END:VEVENT
END:VCALENDAR
