BEGIN:VCALENDAR
METHOD:REQUEST
PRODID:-//events.orgNONSGML ical.net 4.0//EN
VERSION:2.0
BEGIN:VEVENT
DTEND;VALUE=DATE:20260608
DTSTAMP:20260419T154547Z
DTSTART;VALUE=DATE:20260608
LOCATION:House of Blues Houston\, Houston
ORGANIZER;CN=:mailto:events@events.org
SEQUENCE:0
SUMMARY:WOLFMOTHER - 20th Anniversary Tour
UID:512ca47d-e14c-4881-ade5-43d9001c4d18
URL:https://events.org/e/WOLFMOTHER---20th-Anniversary-Tour/C5K2IMVS
BEGIN:VALARM
ACTION:DISPLAY
SUMMARY:Reminder
TRIGGER:-P1D
END:VALARM
END:VEVENT
END:VCALENDAR
