BEGIN:VCALENDAR
METHOD:REQUEST
PRODID:-//events.orgNONSGML ical.net 4.0//EN
VERSION:2.0
BEGIN:VEVENT
DTEND;VALUE=DATE:20260421
DTSTAMP:20260419T130437Z
DTSTART;VALUE=DATE:20260421
LOCATION:Richard Rodgers Theatre\, New York
ORGANIZER;CN=:mailto:events@events.org
SEQUENCE:0
SUMMARY:Hamilton (NY)
UID:4d7b52d9-2283-4d21-87da-ff9fe2f43c75
URL:https://events.org/e/Hamilton-NY/PP85NP6M
BEGIN:VALARM
ACTION:DISPLAY
SUMMARY:Reminder
TRIGGER:-P1D
END:VALARM
END:VEVENT
END:VCALENDAR
